Workbook

Sheet Anuidades 2026
E1: ANUIDADES 2026 | F1: ANUIDADES 2026 | G1: ANUIDADES 2026 | H1: ANUIDADES 2026 | I1: ANUIDADES 2026 | J1: ANUIDADES 2026 | K1: CORE-PA | L1: CORE-PA | M1: CORE-PA | N1: CORE-PA | O1: CORE-PA
E2: ANUIDADES 2026 | F2: ANUIDADES 2026 | G2: ANUIDADES 2026 | H2: ANUIDADES 2026 | I2: ANUIDADES 2026 | J2: ANUIDADES 2026 | K2: Conselho Regional dos Representantes Comerciais | L2: Conselho Regional dos Representantes Comerciais | M2: Conselho Regional dos Representantes Comerciais | N2: Conselho Regional dos Representantes Comerciais | O2: Conselho Regional dos Representantes Comerciais
E3: Pessoa Física e Pessoa Jurídica | F3: Pessoa Física e Pessoa Jurídica | G3: Pessoa Física e Pessoa Jurídica | H3: Pessoa Física e Pessoa Jurídica | I3: Pessoa Física e Pessoa Jurídica | J3: Pessoa Física e Pessoa Jurídica | K3: Conselho Regional dos Representantes Comerciais | L3: Conselho Regional dos Representantes Comerciais | M3: Conselho Regional dos Representantes Comerciais | N3: Conselho Regional dos Representantes Comerciais | O3: Conselho Regional dos Representantes Comerciais
A6: PESSOA FÍSICA (PF) | B6: PESSOA FÍSICA (PF) | C6: PESSOA FÍSICA (PF) | D6: PESSOA FÍSICA (PF) | E6: PESSOA FÍSICA (PF) | F6: PESSOA FÍSICA (PF) | L6: Valores para pagamento em 2026 | M6: Valores para pagamento em 2026 | N6: Valores para pagamento em 2026 | O6: Valores para pagamento em 2026
A7: ANUIDADE INTEGRAL | B7: ANUIDADE INTEGRAL | C7: ANUIDADE INTEGRAL | D7: JANEIRO/2026 | E7: JANEIRO/2026 | F7: JANEIRO/2026 | G7: JANEIRO/2026 | H7: FEVEREIRO/2026 | I7: FEVEREIRO/2026 | J7: FEVEREIRO/2026 | K7: FEVEREIRO/2026 | L7: MARÇO/2026 | M7: MARÇO/2026 | N7: MARÇO/2026 | O7: MARÇO/2026
A8: ='Dados Editáveis'!$A$5 -> 705.94 | D8: =ROUND('Dados Editáveis'!$A$5*(1-'Dados Editáveis'!$B$5),2) -> 564.75 | G8: ='Dados Editáveis'!$B$5 -> 0.2 | H8: =ROUND('Dados Editáveis'!$A$5*(1-'Dados Editáveis'!$C$5),2) -> 600.05 | K8: ='Dados Editáveis'!$C$5 -> 0.15 | L8: =ROUND('Dados Editáveis'!$A$5*(1-'Dados Editáveis'!$D$5),2) -> 635.35 | O8: ='Dados Editáveis'!$D$5 -> 0.1
A11: PESSOA JURÍDICA (PJ) | B11: PESSOA JURÍDICA (PJ) | C11: PESSOA JURÍDICA (PJ) | D11: PESSOA JURÍDICA (PJ) | E11: PESSOA JURÍDICA (PJ) | F11: PESSOA JURÍDICA (PJ) | L11: RT: Responsável Técnico | M11: RT: Responsável Técnico | N11: RT: Responsável Técnico | O11: RT: Responsável Técnico
A12: Faixa de capital social | B12: Faixa de capital social | C12: Faixa de capital social | D12: Anuidade PJ | E12: Anuidade PJ | F12: RT | G12: RT | H12: Total PJ + RT | I12: Total PJ + RT | J12: Janeiro/2026 20% de desconto | K12: Janeiro/2026 20% de desconto | L12: Fevereiro/2026 15% de desconto | M12: Fevereiro/2026 15% de desconto | N12: Março/2026 10% de desconto | O12: Março/2026 10% de desconto
A13: Faixa de capital social | B13: Faixa de capital social | C13: Faixa de capital social | D13: Anuidade PJ | E13: Anuidade PJ | F13: RT | G13: RT | H13: Total PJ + RT | I13: Total PJ + RT | J13: Janeiro/2026 20% de desconto | K13: Janeiro/2026 20% de desconto | L13: Fevereiro/2026 15% de desconto | M13: Fevereiro/2026 15% de desconto | N13: Março/2026 10% de desconto | O13: Março/2026 10% de desconto
A14: ='Dados Editáveis'!A8 -> a) R$ 1,00 a R$ 10.000,00 | D14: ='Dados Editáveis'!B8 -> 823.58 | F14: ='Dados Editáveis'!C8 -> 352.97 | H14: ='Dados Editáveis'!D8 -> 1176.55 | J14: ='Dados Editáveis'!E8 -> 941.24 | L14: ='Dados Editáveis'!F8 -> 1000.07 | N14: ='Dados Editáveis'!G8 -> 1058.9
A15: ='Dados Editáveis'!A9 -> b) R$ 10.000,01 a R$ 50.000,00 | D15: ='Dados Editáveis'!B9 -> 988.31 | F15: ='Dados Editáveis'!C9 -> 352.97 | H15: ='Dados Editáveis'!D9 -> 1341.28 | J15: ='Dados Editáveis'!E9 -> 1073.02 | L15: ='Dados Editáveis'!F9 -> 1140.09 | N15: ='Dados Editáveis'!G9 -> 1207.15
A16: ='Dados Editáveis'!A10 -> c) R$ 50.000,01 a R$ 100.000,00 | D16: ='Dados Editáveis'!B10 -> 1185.96 | F16: ='Dados Editáveis'!C10 -> 352.97 | H16: ='Dados Editáveis'!D10 -> 1538.93 | J16: ='Dados Editáveis'!E10 -> 1231.14 | L16: ='Dados Editáveis'!F10 -> 1308.09 | N16: ='Dados Editáveis'!G10 -> 1385.04
A17: ='Dados Editáveis'!A11 -> d) R$ 100.000,01 a R$ 300.000,00 | D17: ='Dados Editáveis'!B11 -> 1421.32 | F17: ='Dados Editáveis'!C11 -> 352.97 | H17: ='Dados Editáveis'!D11 -> 1774.29 | J17: ='Dados Editáveis'!E11 -> 1419.43 | L17: ='Dados Editáveis'!F11 -> 1508.15 | N17: ='Dados Editáveis'!G11 -> 1596.86
A18: ='Dados Editáveis'!A12 -> e) R$ 300.000,01 a R$ 500.000,00 | D18: ='Dados Editáveis'!B12 -> 2164.97 | F18: ='Dados Editáveis'!C12 -> 352.97 | H18: ='Dados Editáveis'!D12 -> 2517.94 | J18: ='Dados Editáveis'!E12 -> 2014.35 | L18: ='Dados Editáveis'!F12 -> 2140.25 | N18: ='Dados Editáveis'!G12 -> 2266.15
A19: ='Dados Editáveis'!A13 -> f) Acima de R$ 500.000,00 | D19: ='Dados Editáveis'!B13 -> 3223.93 | F19: ='Dados Editáveis'!C13 -> 352.97 | H19: ='Dados Editáveis'!D13 -> 3576.9 | J19: ='Dados Editáveis'!E13 -> 2861.52 | L19: ='Dados Editáveis'!F13 -> 3040.37 | N19: ='Dados Editáveis'!G13 -> 3219.21
A21: Nota: os valores de janeiro a março para PJ correspondem ao total PJ + RT com os respectivos descontos. | B21: Nota: os valores de janeiro a março para PJ correspondem ao total PJ + RT com os respectivos descontos. | C21: Nota: os valores de janeiro a março para PJ correspondem ao total PJ + RT com os respectivos descontos. | D21: Nota: os valores de janeiro a março para PJ correspondem ao total PJ + RT com os respectivos descontos. | E21: Nota: os valores de janeiro a março para PJ correspondem ao total PJ + RT com os respectivos descontos. | F21: Nota: os valores de janeiro a março para PJ correspondem ao total PJ + RT com os respectivos descontos. | G21: Nota: os valores de janeiro a março para PJ correspondem ao total PJ + RT com os respectivos descontos. | H21: Nota: os valores de janeiro a março para PJ correspondem ao total PJ + RT com os respectivos descontos. | I21: Nota: os valores de janeiro a março para PJ correspondem ao total PJ + RT com os respectivos descontos. | J21: Nota: os valores de janeiro a março para PJ correspondem ao total PJ + RT com os respectivos descontos. | L21: Valores expressos em reais (R$). | M21: Valores expressos em reais (R$). | N21: Valores expressos em reais (R$). | O21: Valores expressos em reais (R$).
A23: CORE-PA | Conselho Regional dos Representantes Comerciais no Estado do Pará | B23: CORE-PA | Conselho Regional dos Representantes Comerciais no Estado do Pará | C23: CORE-PA | Conselho Regional dos Representantes Comerciais no Estado do Pará | D23: CORE-PA | Conselho Regional dos Representantes Comerciais no Estado do Pará | E23: CORE-PA | Conselho Regional dos Representantes Comerciais no Estado do Pará | F23: CORE-PA | Conselho Regional dos Representantes Comerciais no Estado do Pará | G23: CORE-PA | Conselho Regional dos Representantes Comerciais no Estado do Pará | H23: CORE-PA | Conselho Regional dos Representantes Comerciais no Estado do Pará | I23: CORE-PA | Conselho Regional dos Representantes Comerciais no Estado do Pará | J23: CORE-PA | Conselho Regional dos Representantes Comerciais no Estado do Pará | K23: CORE-PA | Conselho Regional dos Representantes Comerciais no Estado do Pará | L23: CORE-PA | Conselho Regional dos Representantes Comerciais no Estado do Pará | M23: Anuidades 2026 | N23: Anuidades 2026 | O23: Anuidades 2026

Sheet Dados Editáveis
A1: DADOS EDITÁVEIS - ANUIDADES 2026 | B1: DADOS EDITÁVEIS - ANUIDADES 2026 | C1: DADOS EDITÁVEIS - ANUIDADES 2026 | D1: DADOS EDITÁVEIS - ANUIDADES 2026 | E1: DADOS EDITÁVEIS - ANUIDADES 2026 | F1: DADOS EDITÁVEIS - ANUIDADES 2026 | G1: DADOS EDITÁVEIS - ANUIDADES 2026
A2: Edite somente as células em azul-claro. Os totais e descontos são calculados automaticamente. | B2: Edite somente as células em azul-claro. Os totais e descontos são calculados automaticamente. | C2: Edite somente as células em azul-claro. Os totais e descontos são calculados automaticamente. | D2: Edite somente as células em azul-claro. Os totais e descontos são calculados automaticamente. | E2: Edite somente as células em azul-claro. Os totais e descontos são calculados automaticamente. | F2: Edite somente as células em azul-claro. Os totais e descontos são calculados automaticamente. | G2: Edite somente as células em azul-claro. Os totais e descontos são calculados automaticamente.
A3: PESSOA FÍSICA (PF) | B3: PESSOA FÍSICA (PF) | C3: PESSOA FÍSICA (PF) | D3: PESSOA FÍSICA (PF) | E3: PESSOA FÍSICA (PF) | F3: PESSOA FÍSICA (PF) | G3: PESSOA FÍSICA (PF)
A4: Anuidade integral | B4: Desconto janeiro | C4: Desconto fevereiro | D4: Desconto março
A5: 705.94 | B5: 0.2 | C5: 0.15 | D5: 0.1
A6: PESSOA JURÍDICA (PJ) | B6: PESSOA JURÍDICA (PJ) | C6: PESSOA JURÍDICA (PJ) | D6: PESSOA JURÍDICA (PJ) | E6: PESSOA JURÍDICA (PJ) | F6: PESSOA JURÍDICA (PJ) | G6: PESSOA JURÍDICA (PJ)
A7: Faixa de capital social | B7: Anuidade PJ | C7: RT | D7: Total PJ + RT | E7: Janeiro/2026 | F7: Fevereiro/2026 | G7: Março/2026
A8: a) R$ 1,00 a R$ 10.000,00 | B8: 823.58 | C8: 352.97 | D8: =ROUND(B8+C8,2) -> 1176.55 | E8: =ROUND(D8*(1-$B$5),2) -> 941.24 | F8: =ROUND(D8*(1-$C$5),2) -> 1000.07 | G8: =ROUND(D8*(1-$D$5),2) -> 1058.9
A9: b) R$ 10.000,01 a R$ 50.000,00 | B9: 988.31 | C9: 352.97 | D9: =ROUND(B9+C9,2) -> 1341.28 | E9: =ROUND(D9*(1-$B$5),2) -> 1073.02 | F9: =ROUND(D9*(1-$C$5),2) -> 1140.09 | G9: =ROUND(D9*(1-$D$5),2) -> 1207.15
A10: c) R$ 50.000,01 a R$ 100.000,00 | B10: 1185.96 | C10: 352.97 | D10: =ROUND(B10+C10,2) -> 1538.93 | E10: =ROUND(D10*(1-$B$5),2) -> 1231.14 | F10: =ROUND(D10*(1-$C$5),2) -> 1308.09 | G10: =ROUND(D10*(1-$D$5),2) -> 1385.04
A11: d) R$ 100.000,01 a R$ 300.000,00 | B11: 1421.32 | C11: 352.97 | D11: =ROUND(B11+C11,2) -> 1774.29 | E11: =ROUND(D11*(1-$B$5),2) -> 1419.43 | F11: =ROUND(D11*(1-$C$5),2) -> 1508.15 | G11: =ROUND(D11*(1-$D$5),2) -> 1596.86
A12: e) R$ 300.000,01 a R$ 500.000,00 | B12: 2164.97 | C12: 352.97 | D12: =ROUND(B12+C12,2) -> 2517.94 | E12: =ROUND(D12*(1-$B$5),2) -> 2014.35 | F12: =ROUND(D12*(1-$C$5),2) -> 2140.25 | G12: =ROUND(D12*(1-$D$5),2) -> 2266.15
A13: f) Acima de R$ 500.000,00 | B13: 3223.93 | C13: 352.97 | D13: =ROUND(B13+C13,2) -> 3576.9 | E13: =ROUND(D13*(1-$B$5),2) -> 2861.52 | F13: =ROUND(D13*(1-$C$5),2) -> 3040.37 | G13: =ROUND(D13*(1-$D$5),2) -> 3219.21
A15: Fonte: Tabela_Anuidades_CORE-PA_2026(1).jpg - modelo fornecido para conversão em planilha editável. | B15: Fonte: Tabela_Anuidades_CORE-PA_2026(1).jpg - modelo fornecido para conversão em planilha editável. | C15: Fonte: Tabela_Anuidades_CORE-PA_2026(1).jpg - modelo fornecido para conversão em planilha editável. | D15: Fonte: Tabela_Anuidades_CORE-PA_2026(1).jpg - modelo fornecido para conversão em planilha editável. | E15: Fonte: Tabela_Anuidades_CORE-PA_2026(1).jpg - modelo fornecido para conversão em planilha editável. | F15: Fonte: Tabela_Anuidades_CORE-PA_2026(1).jpg - modelo fornecido para conversão em planilha editável. | G15: Fonte: Tabela_Anuidades_CORE-PA_2026(1).jpg - modelo fornecido para conversão em planilha editável.
